Package: LymphoSeq Version: 1.39.0 Maintainer: David Coffey MaintainerEmail: dcoffey at fredhutch.org git_url: https://git.bioconductor.org/packages/LymphoSeq git_branch: devel git_last_commit: be99fc7 git_last_commit_date: 2025-10-29 10:31:49 -0500 (Wed, 29 Oct 2025)