Package: LoomExperiment Version: 1.29.0 Command: /Library/Frameworks/R.framework/Resources/bin/R CMD INSTALL LoomExperiment StartedAt: 2025-11-13 15:15:12 -0500 (Thu, 13 Nov 2025) EndedAt: 2025-11-13 15:15:23 -0500 (Thu, 13 Nov 2025) EllapsedTime: 11.6 seconds RetCode: 0 Status: OK