Package: LoomExperiment Version: 1.29.0 Command: /Library/Frameworks/R.framework/Resources/bin/R CMD build --keep-empty-dirs --no-resave-data LoomExperiment StartedAt: 2025-11-13 16:51:26 -0500 (Thu, 13 Nov 2025) EndedAt: 2025-11-13 16:51:44 -0500 (Thu, 13 Nov 2025) EllapsedTime: 18.2 seconds RetCode: 0 Status: OK PackageFile: LoomExperiment_1.29.0.tar.gz PackageFileSize: 252.9 KiB