Package: LoomExperiment Version: 1.29.0 Command: rm -rf LoomExperiment.buildbin-libdir && mkdir LoomExperiment.buildbin-libdir && /Users/biocbuild/BBS/utils/build-universal.sh LoomExperiment_1.29.0.tar.gz /Library/Frameworks/R.framework/Resources/bin/R LoomExperiment.buildbin-libdir StartedAt: 2025-11-13 23:43:29 -0500 (Thu, 13 Nov 2025) EndedAt: 2025-11-13 23:43:43 -0500 (Thu, 13 Nov 2025) EllapsedTime: 14.4 seconds RetCode: 0 Status: OK PackageFile: LoomExperiment_1.29.0.tgz PackageFileSize: 872.3 KiB