Package: LinkHD Version: 1.25.0 Command: /Library/Frameworks/R.framework/Resources/bin/R CMD build --keep-empty-dirs --no-resave-data LinkHD StartedAt: 2025-11-14 16:47:41 -0500 (Fri, 14 Nov 2025) EndedAt: 2025-11-14 16:48:06 -0500 (Fri, 14 Nov 2025) EllapsedTime: 25.3 seconds RetCode: 0 Status: OK PackageFile: LinkHD_1.25.0.tar.gz PackageFileSize: 2.479 MiB