Package: LinTInd Version: 1.13.1 Command: /home/biocbuild/bbs-3.23-bioc/R/bin/R CMD INSTALL LinTInd StartedAt: 2025-10-22 21:39:45 -0000 (Wed, 22 Oct 2025) EndedAt: 2025-10-22 21:40:04 -0000 (Wed, 22 Oct 2025) EllapsedTime: 18.6 seconds RetCode: 0 Status: OK