Package: LinTInd Version: 1.13.1 Command: /home/biocbuild/bbs-3.23-bioc/R/bin/R CMD build --keep-empty-dirs --no-resave-data LinTInd StartedAt: 2025-10-22 23:28:07 -0000 (Wed, 22 Oct 2025) EndedAt: 2025-10-22 23:28:33 -0000 (Wed, 22 Oct 2025) EllapsedTime: 26.1 seconds RetCode: 1 Status: ERROR PackageFile: None PackageFileSize: NA