Package: LedPred Version: 1.45.0 Command: /home/biocbuild/bbs-3.23-bioc/R/bin/R CMD INSTALL LedPred StartedAt: 2025-11-11 15:14:32 -0500 (Tue, 11 Nov 2025) EndedAt: 2025-11-11 15:14:57 -0500 (Tue, 11 Nov 2025) EllapsedTime: 24.9 seconds RetCode: 0 Status: OK