Package: LedPred Version: 1.45.0 Command: /Library/Frameworks/R.framework/Resources/bin/R CMD INSTALL LedPred StartedAt: 2025-11-13 15:05:59 -0500 (Thu, 13 Nov 2025) EndedAt: 2025-11-13 15:06:11 -0500 (Thu, 13 Nov 2025) EllapsedTime: 12.7 seconds RetCode: 0 Status: OK