Package: LedPred Version: 1.45.0 Command: /Library/Frameworks/R.framework/Resources/bin/R CMD build --keep-empty-dirs --no-resave-data LedPred StartedAt: 2025-11-13 16:50:11 -0500 (Thu, 13 Nov 2025) EndedAt: 2025-11-13 16:50:21 -0500 (Thu, 13 Nov 2025) EllapsedTime: 10.1 seconds RetCode: 0 Status: OK PackageFile: LedPred_1.45.0.tar.gz PackageFileSize: 1.464 MiB