Package: LedPred Version: 1.45.0 Command: rm -rf LedPred.buildbin-libdir && mkdir LedPred.buildbin-libdir && /Users/biocbuild/BBS/utils/build-universal.sh LedPred_1.45.0.tar.gz /Library/Frameworks/R.framework/Resources/bin/R LedPred.buildbin-libdir StartedAt: 2025-11-13 23:43:06 -0500 (Thu, 13 Nov 2025) EndedAt: 2025-11-13 23:43:24 -0500 (Thu, 13 Nov 2025) EllapsedTime: 17.5 seconds RetCode: 0 Status: OK PackageFile: LedPred_1.45.0.tgz PackageFileSize: 1.687 MiB