Package: LRcell Version: 1.19.0 Command: /home/biocbuild/bbs-3.23-bioc/R/bin/R CMD build --keep-empty-dirs --no-resave-data LRcell StartedAt: 2025-11-13 18:21:52 -0500 (Thu, 13 Nov 2025) EndedAt: 2025-11-13 18:22:52 -0500 (Thu, 13 Nov 2025) EllapsedTime: 60.1 seconds RetCode: 0 Status: OK PackageFile: LRcell_1.19.0.tar.gz PackageFileSize: 1.076 MiB