Package: LRcell Version: 1.19.0 Command: rm -rf LRcell.buildbin-libdir && mkdir LRcell.buildbin-libdir && /Users/biocbuild/BBS/utils/build-universal.sh LRcell_1.19.0.tar.gz /Library/Frameworks/R.framework/Resources/bin/R LRcell.buildbin-libdir StartedAt: 2025-11-13 23:43:32 -0500 (Thu, 13 Nov 2025) EndedAt: 2025-11-13 23:43:40 -0500 (Thu, 13 Nov 2025) EllapsedTime: 8.2 seconds RetCode: 0 Status: OK PackageFile: LRcell_1.19.0.tgz PackageFileSize: 1.074 MiB