Package: LRcell Version: 1.19.0 Maintainer: Wenjing Ma MaintainerEmail: wenjing.ma at emory.edu git_url: https://git.bioconductor.org/packages/LRcell git_branch: devel git_last_commit: fb27f27 git_last_commit_date: 2025-10-29 11:07:47 -0500 (Wed, 29 Oct 2025)