Package: LRBaseDbi Version: 2.21.0 Command: /home/biocbuild/bbs-3.23-bioc/R/bin/R CMD INSTALL LRBaseDbi StartedAt: 2025-11-13 15:57:45 -0500 (Thu, 13 Nov 2025) EndedAt: 2025-11-13 15:57:58 -0500 (Thu, 13 Nov 2025) EllapsedTime: 12.4 seconds RetCode: 0 Status: OK