Package: LRBaseDbi Version: 2.21.0 Command: rm -rf LRBaseDbi.buildbin-libdir && mkdir LRBaseDbi.buildbin-libdir && /Users/biocbuild/BBS/utils/build-universal.sh LRBaseDbi_2.21.0.tar.gz /Library/Frameworks/R.framework/Resources/bin/R LRBaseDbi.buildbin-libdir StartedAt: 2025-11-13 23:43:32 -0500 (Thu, 13 Nov 2025) EndedAt: 2025-11-13 23:43:38 -0500 (Thu, 13 Nov 2025) EllapsedTime: 6.2 seconds RetCode: 0 Status: OK PackageFile: LRBaseDbi_2.21.0.tgz PackageFileSize: 556.5 KiB