Package: LOLA Version: 1.41.0 Command: /Library/Frameworks/R.framework/Resources/bin/R CMD INSTALL LOLA StartedAt: 2025-11-14 15:11:05 -0500 (Fri, 14 Nov 2025) EndedAt: 2025-11-14 15:11:09 -0500 (Fri, 14 Nov 2025) EllapsedTime: 4.3 seconds RetCode: 0 Status: OK