Package: LOLA Version: 1.41.0 Command: /Library/Frameworks/R.framework/Resources/bin/R CMD build --keep-empty-dirs --no-resave-data LOLA StartedAt: 2025-11-14 16:48:15 -0500 (Fri, 14 Nov 2025) EndedAt: 2025-11-14 16:48:24 -0500 (Fri, 14 Nov 2025) EllapsedTime: 9.1 seconds RetCode: 0 Status: OK PackageFile: LOLA_1.41.0.tar.gz PackageFileSize: 1.11 MiB