Package: LOLA Version: 1.41.0 Command: rm -rf LOLA.buildbin-libdir && mkdir LOLA.buildbin-libdir && /Users/biocbuild/BBS/utils/build-universal.sh LOLA_1.41.0.tar.gz /Library/Frameworks/R.framework/Resources/bin/R LOLA.buildbin-libdir StartedAt: 2025-11-14 23:38:32 -0500 (Fri, 14 Nov 2025) EndedAt: 2025-11-14 23:38:39 -0500 (Fri, 14 Nov 2025) EllapsedTime: 6.2 seconds RetCode: 0 Status: OK PackageFile: LOLA_1.41.0.tgz PackageFileSize: 1.188 MiB