Package: LOBSTAHS Version: 1.37.0 Command: /home/biocbuild/bbs-3.23-bioc/R/bin/R CMD INSTALL LOBSTAHS StartedAt: 2025-11-14 15:46:54 -0500 (Fri, 14 Nov 2025) EndedAt: 2025-11-14 15:47:42 -0500 (Fri, 14 Nov 2025) EllapsedTime: 47.9 seconds RetCode: 0 Status: OK