Package: LOBSTAHS Version: 1.37.0 Command: /Library/Frameworks/R.framework/Resources/bin/R CMD INSTALL LOBSTAHS StartedAt: 2025-11-14 15:25:38 -0500 (Fri, 14 Nov 2025) EndedAt: 2025-11-14 15:25:58 -0500 (Fri, 14 Nov 2025) EllapsedTime: 19.5 seconds RetCode: 0 Status: OK