Package: LOBSTAHS Version: 1.37.0 Command: /Library/Frameworks/R.framework/Resources/bin/R CMD build --keep-empty-dirs --no-resave-data LOBSTAHS StartedAt: 2025-11-14 16:48:09 -0500 (Fri, 14 Nov 2025) EndedAt: 2025-11-14 16:48:40 -0500 (Fri, 14 Nov 2025) EllapsedTime: 30.4 seconds RetCode: 0 Status: OK PackageFile: LOBSTAHS_1.37.0.tar.gz PackageFileSize: 2.903 MiB