Package: LEA Version: 3.23.0 Command: /home/biocbuild/bbs-3.23-bioc/R/bin/R CMD INSTALL LEA StartedAt: 2025-11-11 15:07:03 -0500 (Tue, 11 Nov 2025) EndedAt: 2025-11-11 15:07:19 -0500 (Tue, 11 Nov 2025) EllapsedTime: 15.7 seconds RetCode: 0 Status: OK