Package: LEA Version: 3.23.0 Command: /Library/Frameworks/R.framework/Resources/bin/R CMD INSTALL LEA StartedAt: 2025-11-13 15:01:52 -0500 (Thu, 13 Nov 2025) EndedAt: 2025-11-13 15:02:00 -0500 (Thu, 13 Nov 2025) EllapsedTime: 7.5 seconds RetCode: 0 Status: OK