Package: LEA Version: 3.23.0 Command: /Library/Frameworks/R.framework/Resources/bin/R CMD build --keep-empty-dirs --no-resave-data LEA StartedAt: 2025-11-13 16:50:08 -0500 (Thu, 13 Nov 2025) EndedAt: 2025-11-13 16:50:54 -0500 (Thu, 13 Nov 2025) EllapsedTime: 45.5 seconds RetCode: 0 Status: OK PackageFile: LEA_3.23.0.tar.gz PackageFileSize: 740.4 KiB