Package: LEA Version: 3.23.0 Maintainer: Olivier Francois MaintainerEmail: olivier.francois at grenoble-inp.fr git_url: https://git.bioconductor.org/packages/LEA git_branch: devel git_last_commit: f812da2 git_last_commit_date: 2025-10-29 10:24:31 -0500 (Wed, 29 Oct 2025)