Package: LACHESIS Version: 0.99.4 Command: /Library/Frameworks/R.framework/Resources/bin/R CMD INSTALL LACHESIS StartedAt: 2025-11-23 15:08:29 -0500 (Sun, 23 Nov 2025) EndedAt: 2025-11-23 15:08:36 -0500 (Sun, 23 Nov 2025) EllapsedTime: 7.0 seconds RetCode: 0 Status: OK