Package: LACE Version: 2.15.0 Command: /home/biocbuild/bbs-3.23-bioc/R/bin/R CMD INSTALL LACE StartedAt: 2025-11-14 15:27:25 -0500 (Fri, 14 Nov 2025) EndedAt: 2025-11-14 15:27:58 -0500 (Fri, 14 Nov 2025) EllapsedTime: 33.3 seconds RetCode: 0 Status: OK