Package: LACE Version: 2.15.0 Command: /home/biocbuild/bbs-3.23-bioc/R/bin/R CMD build --keep-empty-dirs --no-resave-data LACE StartedAt: 2025-11-13 18:18:35 -0500 (Thu, 13 Nov 2025) EndedAt: 2025-11-13 18:19:27 -0500 (Thu, 13 Nov 2025) EllapsedTime: 52.1 seconds RetCode: 0 Status: OK PackageFile: LACE_2.15.0.tar.gz PackageFileSize: 4.077 MiB