Package: LACE Version: 2.15.0 Command: /Library/Frameworks/R.framework/Resources/bin/R CMD INSTALL LACE StartedAt: 2025-11-13 15:12:44 -0500 (Thu, 13 Nov 2025) EndedAt: 2025-11-13 15:12:57 -0500 (Thu, 13 Nov 2025) EllapsedTime: 13.4 seconds RetCode: 0 Status: OK