Package: LACE Version: 2.15.0 Command: /Library/Frameworks/R.framework/Resources/bin/R CMD build --keep-empty-dirs --no-resave-data LACE StartedAt: 2025-11-13 16:49:59 -0500 (Thu, 13 Nov 2025) EndedAt: 2025-11-13 16:50:21 -0500 (Thu, 13 Nov 2025) EllapsedTime: 22.3 seconds RetCode: 0 Status: OK PackageFile: LACE_2.15.0.tar.gz PackageFileSize: 4.084 MiB