Package: LACE Version: 2.15.0 Command: rm -rf LACE.buildbin-libdir && mkdir LACE.buildbin-libdir && /Users/biocbuild/BBS/utils/build-universal.sh LACE_2.15.0.tar.gz /Library/Frameworks/R.framework/Resources/bin/R LACE.buildbin-libdir StartedAt: 2025-11-13 23:43:01 -0500 (Thu, 13 Nov 2025) EndedAt: 2025-11-13 23:43:19 -0500 (Thu, 13 Nov 2025) EllapsedTime: 17.5 seconds RetCode: 0 Status: OK PackageFile: LACE_2.15.0.tgz PackageFileSize: 3.045 MiB