Package: LACE Version: 2.15.0 Maintainer: Davide Maspero MaintainerEmail: d.maspero at campus.unimib.it git_url: https://git.bioconductor.org/packages/LACE git_branch: devel git_last_commit: 389a4b3 git_last_commit_date: 2025-10-29 10:59:31 -0500 (Wed, 29 Oct 2025)