Package: KnowSeq Version: 1.25.0 Command: /home/biocbuild/bbs-3.23-bioc/R/bin/R CMD check --install=check:KnowSeq.install-out.txt --library=/home/biocbuild/bbs-3.23-bioc/R/site-library --timings KnowSeq_1.25.0.tar.gz StartedAt: 2025-11-24 00:46:50 -0500 (Mon, 24 Nov 2025) EndedAt: 2025-11-24 00:51:52 -0500 (Mon, 24 Nov 2025) EllapsedTime: 302.5 seconds RetCode: 1 Status: ERROR CheckDir: KnowSeq.Rcheck Warnings: NA