Package: KnowSeq Version: 1.25.0 Command: /home/biocbuild/bbs-3.23-bioc/R/bin/R CMD build --keep-empty-dirs --no-resave-data KnowSeq StartedAt: 2025-11-13 18:18:18 -0500 (Thu, 13 Nov 2025) EndedAt: 2025-11-13 18:20:57 -0500 (Thu, 13 Nov 2025) EllapsedTime: 159.3 seconds RetCode: 0 Status: OK PackageFile: KnowSeq_1.25.0.tar.gz PackageFileSize: 8.201 MiB