Package: KnowSeq Version: 1.25.0 Command: /Library/Frameworks/R.framework/Resources/bin/R CMD build --keep-empty-dirs --no-resave-data KnowSeq StartedAt: 2025-11-13 16:49:54 -0500 (Thu, 13 Nov 2025) EndedAt: 2025-11-13 16:51:21 -0500 (Thu, 13 Nov 2025) EllapsedTime: 87.0 seconds RetCode: 0 Status: OK PackageFile: KnowSeq_1.25.0.tar.gz PackageFileSize: 8.261 MiB