Package: KnowSeq Version: 1.25.0 Command: rm -rf KnowSeq.buildbin-libdir && mkdir KnowSeq.buildbin-libdir && /Users/biocbuild/BBS/utils/build-universal.sh KnowSeq_1.25.0.tar.gz /Library/Frameworks/R.framework/Resources/bin/R KnowSeq.buildbin-libdir StartedAt: 2025-11-13 23:42:59 -0500 (Thu, 13 Nov 2025) EndedAt: 2025-11-13 23:43:16 -0500 (Thu, 13 Nov 2025) EllapsedTime: 16.4 seconds RetCode: 0 Status: OK PackageFile: KnowSeq_1.25.0.tgz PackageFileSize: 6.595 MiB