Package: KinSwingR Version: 1.29.0 Command: /home/biocbuild/bbs-3.23-bioc/R/bin/R CMD INSTALL KinSwingR StartedAt: 2025-11-11 15:09:46 -0500 (Tue, 11 Nov 2025) EndedAt: 2025-11-11 15:09:58 -0500 (Tue, 11 Nov 2025) EllapsedTime: 12.8 seconds RetCode: 0 Status: OK