Package: KinSwingR Version: 1.29.0 Command: /Library/Frameworks/R.framework/Resources/bin/R CMD build --keep-empty-dirs --no-resave-data KinSwingR StartedAt: 2025-11-13 16:49:50 -0500 (Thu, 13 Nov 2025) EndedAt: 2025-11-13 16:50:02 -0500 (Thu, 13 Nov 2025) EllapsedTime: 12.1 seconds RetCode: 0 Status: OK PackageFile: KinSwingR_1.29.0.tar.gz PackageFileSize: 649.9 KiB