Package: KinSwingR Version: 1.29.0 Command: rm -rf KinSwingR.buildbin-libdir && mkdir KinSwingR.buildbin-libdir && /Users/biocbuild/BBS/utils/build-universal.sh KinSwingR_1.29.0.tar.gz /Library/Frameworks/R.framework/Resources/bin/R KinSwingR.buildbin-libdir StartedAt: 2025-11-13 23:42:56 -0500 (Thu, 13 Nov 2025) EndedAt: 2025-11-13 23:42:59 -0500 (Thu, 13 Nov 2025) EllapsedTime: 3.1 seconds RetCode: 0 Status: OK PackageFile: KinSwingR_1.29.0.tgz PackageFileSize: 697 KiB