Package: KinSwingR Version: 1.29.0 Maintainer: Ashley J. Waardenberg MaintainerEmail: a.waardenberg at gmail.com git_url: https://git.bioconductor.org/packages/KinSwingR git_branch: devel git_last_commit: 3ec41cc git_last_commit_date: 2025-10-29 10:48:05 -0500 (Wed, 29 Oct 2025)