Package: KEGGgraph Version: 1.71.0 Command: /home/biocbuild/bbs-3.23-bioc/R/bin/R CMD build --keep-empty-dirs --no-resave-data KEGGgraph StartedAt: 2025-11-14 18:17:45 -0500 (Fri, 14 Nov 2025) EndedAt: 2025-11-14 18:18:24 -0500 (Fri, 14 Nov 2025) EllapsedTime: 39.0 seconds RetCode: 0 Status: OK PackageFile: KEGGgraph_1.71.0.tar.gz PackageFileSize: 1.315 MiB