Package: KEGGgraph Version: 1.71.0 Command: /Library/Frameworks/R.framework/Resources/bin/R CMD INSTALL KEGGgraph StartedAt: 2025-11-13 15:08:42 -0500 (Thu, 13 Nov 2025) EndedAt: 2025-11-13 15:08:45 -0500 (Thu, 13 Nov 2025) EllapsedTime: 2.8 seconds RetCode: 0 Status: OK