Package: KEGGgraph Version: 1.71.0 Command: /Library/Frameworks/R.framework/Resources/bin/R CMD build --keep-empty-dirs --no-resave-data KEGGgraph StartedAt: 2025-11-13 16:49:29 -0500 (Thu, 13 Nov 2025) EndedAt: 2025-11-13 16:49:55 -0500 (Thu, 13 Nov 2025) EllapsedTime: 26.3 seconds RetCode: 0 Status: OK PackageFile: KEGGgraph_1.71.0.tar.gz PackageFileSize: 1.315 MiB