Package: KEGGgraph Version: 1.71.0 Command: rm -rf KEGGgraph.buildbin-libdir && mkdir KEGGgraph.buildbin-libdir && /Users/biocbuild/BBS/utils/build-universal.sh KEGGgraph_1.71.0.tar.gz /Library/Frameworks/R.framework/Resources/bin/R KEGGgraph.buildbin-libdir StartedAt: 2025-11-13 23:42:52 -0500 (Thu, 13 Nov 2025) EndedAt: 2025-11-13 23:42:56 -0500 (Thu, 13 Nov 2025) EllapsedTime: 4.1 seconds RetCode: 0 Status: OK PackageFile: KEGGgraph_1.71.0.tgz PackageFileSize: 1.63 MiB