Package: KEGGREST Version: 1.51.0 Command: /home/biocbuild/bbs-3.23-bioc/R/bin/R CMD INSTALL KEGGREST StartedAt: 2025-11-14 15:25:53 -0500 (Fri, 14 Nov 2025) EndedAt: 2025-11-14 15:26:03 -0500 (Fri, 14 Nov 2025) EllapsedTime: 9.5 seconds RetCode: 0 Status: OK