Package: KEGGREST Version: 1.51.0 Command: rm -rf KEGGREST.buildbin-libdir && mkdir KEGGREST.buildbin-libdir && /Users/biocbuild/BBS/utils/build-universal.sh KEGGREST_1.51.0.tar.gz /Library/Frameworks/R.framework/Resources/bin/R KEGGREST.buildbin-libdir StartedAt: 2025-11-14 23:38:00 -0500 (Fri, 14 Nov 2025) EndedAt: 2025-11-14 23:38:07 -0500 (Fri, 14 Nov 2025) EllapsedTime: 6.2 seconds RetCode: 0 Status: OK PackageFile: KEGGREST_1.51.0.tgz PackageFileSize: 397.8 KiB