Package: KBoost Version: 1.19.0 Command: /Library/Frameworks/R.framework/Resources/bin/R CMD INSTALL KBoost StartedAt: 2025-11-12 15:16:06 -0500 (Wed, 12 Nov 2025) EndedAt: 2025-11-12 15:16:09 -0500 (Wed, 12 Nov 2025) EllapsedTime: 2.5 seconds RetCode: 0 Status: OK