Package: KBoost Version: 1.19.0 Command: /Library/Frameworks/R.framework/Resources/bin/R CMD build --keep-empty-dirs --no-resave-data KBoost StartedAt: 2025-11-13 16:49:22 -0500 (Thu, 13 Nov 2025) EndedAt: 2025-11-13 16:49:26 -0500 (Thu, 13 Nov 2025) EllapsedTime: 4.0 seconds RetCode: 0 Status: OK PackageFile: KBoost_1.19.0.tar.gz PackageFileSize: 504 KiB