Package: KBoost Version: 1.19.0 Maintainer: Luis F. Iglesias-Martinez MaintainerEmail: luis.iglesiasmartinez at ucd.ie git_url: https://git.bioconductor.org/packages/KBoost git_branch: devel git_last_commit: 6bffde0 git_last_commit_date: 2025-10-29 11:09:43 -0500 (Wed, 29 Oct 2025)